
BEGIN:VCALENDAR
VERSION:2.0
PRODID:-//MarkedsPartner AS//Umbraco CMS//NO
TIMEZONE-ID:Europe/Oslo
X-WR-TIMEZONE:Europe/Oslo


BEGIN:VEVENT
UID:d32da3e7cbb64280b77d7e1c155a7e89
URL:https://umbraco.naeringsforeningen.no/moeter/arkiv/tv-sending-27-mai/
ORGANIZER;CN=Ola Normann:MAILTO:ola.normann@markedspartner.no
DTSTAMP:20200527T070000Z
DTSTART:20200527T070000Z
DTEND:20200527T073000Z
LAST-MODIFIED:20221031T121115Z
SUMMARY:TV: Sending 27. mai
DESCRIPTION:På grunn av smitteverntiltak må sommerens Blink-festival flyttes ut av Sandnes sentrum og antall turister på Preikestolen blir sannsynligvis langt færre.
X-ALT-DESC:P&#229; grunn av smitteverntiltak m&#229; sommerens Blink-festival flyttes ut av Sandnes sentrum og antall turister p&#229; Preikestolen blir sannsynligvis langt f&#230;rre.
LOCATION:Facebook Live
END:VEVENT


END:VCALENDAR



