
BEGIN:VCALENDAR
VERSION:2.0
PRODID:-//MarkedsPartner AS//Umbraco CMS//NO
TIMEZONE-ID:Europe/Oslo
X-WR-TIMEZONE:Europe/Oslo


BEGIN:VEVENT
UID:1953f30c9764441d881d0daf2fd2c5d2
URL:https://umbraco.naeringsforeningen.no/moeter/arkiv/tv-sending-27-april/
ORGANIZER;CN=Ola Normann:MAILTO:ola.normann@markedspartner.no
DTSTAMP:20200427T070000Z
DTSTART:20200427T070000Z
DTEND:20200427T073000Z
LAST-MODIFIED:20221031T120740Z
SUMMARY:TV: Sending 27. april
DESCRIPTION:I mandagens sending får vi besøk av Berta Lende Røed, Andreas Melvær, Tore Guldbrandsøy og Thomas Smedsvig.
X-ALT-DESC:I mandagens sending f&#229;r vi bes&#248;k av Berta Lende R&#248;ed, Andreas Melv&#230;r, Tore Guldbrands&#248;y og Thomas Smedsvig.
LOCATION:Facebook Live
END:VEVENT


END:VCALENDAR



