
BEGIN:VCALENDAR
VERSION:2.0
PRODID:-//MarkedsPartner AS//Umbraco CMS//NO
TIMEZONE-ID:Europe/Oslo
X-WR-TIMEZONE:Europe/Oslo


BEGIN:VEVENT
UID:c5a03f0ee5774ed098df2e3422d3bde9
URL:https://umbraco.naeringsforeningen.no/moeter/arkiv/tv-sending-261121/
ORGANIZER;CN=Ola Normann:MAILTO:ola.normann@markedspartner.no
DTSTAMP:20211126T080000Z
DTSTART:20211126T080000Z
DTEND:20211126T083000Z
LAST-MODIFIED:20221031T123223Z
SUMMARY:Næringsforeningen TV: Helgemagasin
DESCRIPTION:Velkommen til Næringsforeningens helgemagasin. Torsdag kveld ble det klart hvem som stakk av med seieren i kåringen av årets bedrift. Vi er med på festen, og snakker med Inge Brigt Aarbakke fra vinnerbedriften Aarbakke AS AS. Altibox har inngått et samarbeid med Netflix, og har markert det med en spektakulær musikkvideo fra Stavanger. Toril Nag kommer i studio for å snakke både om samarbeidet og Altibox. En og annen drone kan vi også tilby, og som alltid blir det uka som gikk, med Harald Minge og Tormod Andreassen.
X-ALT-DESC:Velkommen til N&#230;ringsforeningens helgemagasin. Torsdag kveld ble det klart hvem som stakk av med seieren i k&#229;ringen av &#229;rets bedrift. Vi er med p&#229; festen, og snakker med Inge Brigt Aarbakke fra vinnerbedriften Aarbakke AS AS. Altibox har inng&#229;tt et samarbeid med Netflix, og har markert det med en spektakul&#230;r musikkvideo fra Stavanger. Toril Nag kommer i studio for &#229; snakke b&#229;de om samarbeidet og Altibox. En og annen drone kan vi ogs&#229; tilby, og som alltid blir det uka som gikk, med Harald Minge og Tormod Andreassen.
LOCATION:Facebook Live
END:VEVENT


END:VCALENDAR



