
BEGIN:VCALENDAR
VERSION:2.0
PRODID:-//MarkedsPartner AS//Umbraco CMS//NO
TIMEZONE-ID:Europe/Oslo
X-WR-TIMEZONE:Europe/Oslo


BEGIN:VEVENT
UID:abf757fbcfec494487c0273c847542cf
URL:https://umbraco.naeringsforeningen.no/moeter/arkiv/tv-sending-261020/
ORGANIZER;CN=Ola Normann:MAILTO:ola.normann@markedspartner.no
DTSTAMP:20201026T080000Z
DTSTART:20201026T080000Z
DTEND:20201026T081000Z
LAST-MODIFIED:20221031T114314Z
SUMMARY:TV-sending: Premiere på NYSNAKK
DESCRIPTION:Nysnakk er en ny websatsing fra Næringsforeningen for å vise fram det potensialet og de mulighetene som finnes i gründermiljøet. Se premieren på satsingen, der vi også snakker med vår samarbeidspartner Validé.
X-ALT-DESC:Nysnakk er en ny websatsing fra N&#230;ringsforeningen for &#229; vise fram det potensialet og de mulighetene som finnes i gr&#252;ndermilj&#248;et. Se premieren p&#229; satsingen, der vi ogs&#229; snakker med v&#229;r samarbeidspartner Valid&#233;.
LOCATION:Facebook Live
END:VEVENT


END:VCALENDAR



