
BEGIN:VCALENDAR
VERSION:2.0
PRODID:-//MarkedsPartner AS//Umbraco CMS//NO
TIMEZONE-ID:Europe/Oslo
X-WR-TIMEZONE:Europe/Oslo


BEGIN:VEVENT
UID:f2c967d382794098a62853b4f07641e3
URL:https://umbraco.naeringsforeningen.no/moeter/arkiv/tv-sending-260122/
ORGANIZER;CN=Ola Normann:MAILTO:ola.normann@markedspartner.no
DTSTAMP:20220126T080000Z
DTSTART:20220126T080000Z
DTEND:20220126T082000Z
LAST-MODIFIED:20221031T123028Z
SUMMARY:TV: Go´morgen næringslivet
DESCRIPTION:Hjemmekontor er tema i onsdagens sending. Vi får besøk av Berta Lende Røed, sjef for Fuelbox, og Mai Wolstad fra Bjørnson organisasjonspsykologene. Som vanlig får du også en fersk nyhetsoppdatering. Programledere er Elianne Strøm Topstad og Ståle Frafjord.
X-ALT-DESC:Hjemmekontor er tema i onsdagens sending. Vi f&#229;r bes&#248;k av Berta Lende R&#248;ed, sjef for Fuelbox, og Mai Wolstad fra Bj&#248;rnson organisasjonspsykologene. Som vanlig f&#229;r du ogs&#229; en fersk nyhetsoppdatering. Programledere er Elianne Str&#248;m Topstad og St&#229;le Frafjord.
LOCATION:Facebook Live/Linkedin Live
END:VEVENT


END:VCALENDAR



