
BEGIN:VCALENDAR
VERSION:2.0
PRODID:-//MarkedsPartner AS//Umbraco CMS//NO
TIMEZONE-ID:Europe/Oslo
X-WR-TIMEZONE:Europe/Oslo


BEGIN:VEVENT
UID:15b05c47f844463fb077631fa0685777
URL:https://umbraco.naeringsforeningen.no/moeter/arkiv/tv-sending-26-mars/
ORGANIZER;CN=Ola Normann:MAILTO:ola.normann@markedspartner.no
DTSTAMP:20200326T080000Z
DTSTART:20200326T080000Z
DTEND:20200326T083000Z
LAST-MODIFIED:20221031T120242Z
SUMMARY:TV: Sending 26. mars
DESCRIPTION:Kultur er tema for sendingen og vi får besøk av Hanne Vasshus, Leif Tore Lindø, Espen Y. Svendsen, Per-Harald Nilsson og Rune Bjerga.
X-ALT-DESC:Kultur er tema for sendingen og vi f&#229;r bes&#248;k av Hanne Vasshus, Leif Tore Lind&#248;, Espen Y. Svendsen, Per-Harald Nilsson og Rune Bjerga.
LOCATION:Facebook Live
END:VEVENT


END:VCALENDAR



