
BEGIN:VCALENDAR
VERSION:2.0
PRODID:-//MarkedsPartner AS//Umbraco CMS//NO
TIMEZONE-ID:Europe/Oslo
X-WR-TIMEZONE:Europe/Oslo


BEGIN:VEVENT
UID:cfd5266ed96740ddbe445c98d4302f0f
URL:https://umbraco.naeringsforeningen.no/moeter/arkiv/tv-sending-250521/
ORGANIZER;CN=Ola Normann:MAILTO:ola.normann@markedspartner.no
DTSTAMP:20210525T070000Z
DTSTART:20210525T070000Z
DTEND:20210525T072000Z
LAST-MODIFIED:20221031T121742Z
SUMMARY:Forbereder seg på sommeren og livet etter pandemien
DESCRIPTION:Hvordan forbereder reiselivsnæringen seg i regionen for den store sommersesongen? Det er tema for dagens sending. Vi får besøk av reiselivssjef i Ryfylke, Liv Jorunn Tjelmeland, salgsdirektør Heidi Jeanette Frafjord ved Hotel Victoria og daglig leder i Guidecompaniet, Wenche Hansen.
X-ALT-DESC:Hvordan forbereder reiselivsn&#230;ringen seg i regionen for den store sommersesongen? Det er tema for dagens sending. Vi f&#229;r bes&#248;k av reiselivssjef i Ryfylke, Liv Jorunn Tjelmeland, salgsdirekt&#248;r Heidi Jeanette Frafjord ved Hotel Victoria og daglig leder i Guidecompaniet, Wenche Hansen.
LOCATION:Facebook Live
END:VEVENT


END:VCALENDAR



