
BEGIN:VCALENDAR
VERSION:2.0
PRODID:-//MarkedsPartner AS//Umbraco CMS//NO
TIMEZONE-ID:Europe/Oslo
X-WR-TIMEZONE:Europe/Oslo


BEGIN:VEVENT
UID:b4a1e07244a84cb9a9c674bd1b00a84d
URL:https://umbraco.naeringsforeningen.no/moeter/arkiv/tv-sending-250122/
ORGANIZER;CN=Ola Normann:MAILTO:ola.normann@markedspartner.no
DTSTAMP:20220125T080000Z
DTSTART:20220125T080000Z
DTEND:20220125T082000Z
LAST-MODIFIED:20221031T123015Z
SUMMARY:TV: Go´morgen næringslivet
DESCRIPTION:Nytt album i høst og nå også utdannet billedkunstner. Vår nasjonale popkonge Morten Abel er gjest i dagens sending. Vi stikker også innom hjemmekontoret til Knud med D – alias Rune Bjerga.
X-ALT-DESC:Nytt album i h&#248;st og n&#229; ogs&#229; utdannet billedkunstner. V&#229;r nasjonale popkonge Morten Abel er gjest i dagens sending. Vi stikker ogs&#229; innom hjemmekontoret til Knud med D – alias Rune Bjerga.
LOCATION:Facebook Live/Linkedin Live
END:VEVENT


END:VCALENDAR



