
BEGIN:VCALENDAR
VERSION:2.0
PRODID:-//MarkedsPartner AS//Umbraco CMS//NO
TIMEZONE-ID:Europe/Oslo
X-WR-TIMEZONE:Europe/Oslo


BEGIN:VEVENT
UID:9464c2c16f3c44dc8ffee11cab27df52
URL:https://umbraco.naeringsforeningen.no/moeter/arkiv/tv-sending-25-mars/
ORGANIZER;CN=Ola Normann:MAILTO:ola.normann@markedspartner.no
DTSTAMP:20200325T080000Z
DTSTART:20200325T080000Z
DTEND:20200325T083000Z
LAST-MODIFIED:20221031T120238Z
SUMMARY:TV: Sending 25. mars
DESCRIPTION:I sendingen 25. mars får vi besøk av politikerne Arne Bergsvåg og Øystein Langholm Hansen, ekteparet Renaa, Ole Bjelland og vår næringspolitiske leder Tormod Andreassen.
X-ALT-DESC:I sendingen 25. mars f&#229;r vi bes&#248;k av politikerne Arne Bergsv&#229;g og &#216;ystein Langholm Hansen, ekteparet Renaa, Ole Bjelland og v&#229;r n&#230;ringspolitiske leder Tormod Andreassen.
LOCATION:Facebook Live
END:VEVENT


END:VCALENDAR



