
BEGIN:VCALENDAR
VERSION:2.0
PRODID:-//MarkedsPartner AS//Umbraco CMS//NO
TIMEZONE-ID:Europe/Oslo
X-WR-TIMEZONE:Europe/Oslo


BEGIN:VEVENT
UID:a83cb7146aab4621a4ec51bb27956d8e
URL:https://umbraco.naeringsforeningen.no/moeter/arkiv/tv-sending-25-mai/
ORGANIZER;CN=Ola Normann:MAILTO:ola.normann@markedspartner.no
DTSTAMP:20200525T070000Z
DTSTART:20200525T070000Z
DTEND:20200525T073000Z
LAST-MODIFIED:20221031T121105Z
SUMMARY:TV: Sending 25. mai
DESCRIPTION:Arne Austreid har vært konsernsjef i SR-Bank i snart ti år. Til nyttår går han av.
X-ALT-DESC:Arne Austreid har v&#230;rt konsernsjef i SR-Bank i snart ti &#229;r. Til nytt&#229;r g&#229;r han av.
LOCATION:Facebook Live
END:VEVENT


END:VCALENDAR



