
BEGIN:VCALENDAR
VERSION:2.0
PRODID:-//MarkedsPartner AS//Umbraco CMS//NO
TIMEZONE-ID:Europe/Oslo
X-WR-TIMEZONE:Europe/Oslo


BEGIN:VEVENT
UID:fbd77e7bc6c544469944563710ca4e1f
URL:https://umbraco.naeringsforeningen.no/moeter/arkiv/tv-sending-240921/
ORGANIZER;CN=Ola Normann:MAILTO:ola.normann@markedspartner.no
DTSTAMP:20210924T070000Z
DTSTART:20210924T070000Z
DTEND:20210924T072000Z
LAST-MODIFIED:20221031T122411Z
SUMMARY:Næringsforeningen TV: Se vårt nye helgemagasin 
DESCRIPTION:Start up i 2018, 95 millioner i omsetning i 2019, 377 millioner i 2020 og godt over en milliard i 2021. Easee har tatt markedet med storm og medgründer Jonas Helmikstøl har havnet på Kapitals blodferske 400-liste. Helmikstøl er gjest i Næringsforeningens nye helgemagasin. Vi snakker med helseminister Bent Høie, som snart inntar rollen som ny statsforvalter i Rogaland, vi har møtt Pål Mangor Kvammen – og Harald Minge og Tormod Andreassen oppsummerer uken som har gått. Se oss live 09.00 på TV Vest eller Facebook - eller i opptak etterpå når du vil.
X-ALT-DESC:Start up i 2018, 95 millioner i omsetning i 2019, 377 millioner i 2020 og godt over en milliard i 2021. Easee har tatt markedet med storm og medgr&#252;nder Jonas Helmikst&#248;l har havnet p&#229; Kapitals blodferske 400-liste. Helmikst&#248;l er gjest i N&#230;ringsforeningens nye helgemagasin. Vi snakker med helseminister Bent H&#248;ie, som snart inntar rollen som ny statsforvalter i Rogaland, vi har m&#248;tt P&#229;l Mangor Kvammen – og Harald Minge og Tormod Andreassen oppsummerer uken som har g&#229;tt. Se oss live 09.00 p&#229; TV Vest eller Facebook - eller i opptak etterp&#229; n&#229;r du vil.
LOCATION:Facebook Live
END:VEVENT


END:VCALENDAR



