
BEGIN:VCALENDAR
VERSION:2.0
PRODID:-//MarkedsPartner AS//Umbraco CMS//NO
TIMEZONE-ID:Europe/Oslo
X-WR-TIMEZONE:Europe/Oslo


BEGIN:VEVENT
UID:376fe45738784608a0e99fcb9fef944d
URL:https://umbraco.naeringsforeningen.no/moeter/arkiv/tv-sending-240122/
ORGANIZER;CN=Ola Normann:MAILTO:ola.normann@markedspartner.no
DTSTAMP:20220124T080000Z
DTSTART:20220124T080000Z
DTEND:20220124T082000Z
LAST-MODIFIED:20221031T122959Z
SUMMARY:TV: Go´morgen næringslivet
DESCRIPTION:Over 20 ledende bedrifter i regionen er med på UiS og Næringsforeningens trainee-program. I denne sendingen får vi besøk av prosjektleder Kristine Berg Marhaug og Rune Reimertz, som er trainee hos Bouvet. I tillegg blir det som vanlig en gjennomgang av dagens nyheter.
X-ALT-DESC:Over 20 ledende bedrifter i regionen er med p&#229; UiS og N&#230;ringsforeningens trainee-program. I denne sendingen f&#229;r vi bes&#248;k av prosjektleder Kristine Berg Marhaug og Rune Reimertz, som er trainee hos Bouvet. I tillegg blir det som vanlig en gjennomgang av dagens nyheter.
LOCATION:Facebook Live/Linkedin Live
END:VEVENT


END:VCALENDAR



