
BEGIN:VCALENDAR
VERSION:2.0
PRODID:-//MarkedsPartner AS//Umbraco CMS//NO
TIMEZONE-ID:Europe/Oslo
X-WR-TIMEZONE:Europe/Oslo


BEGIN:VEVENT
UID:fb8419bf17874dd3bce317008d517460
URL:https://umbraco.naeringsforeningen.no/moeter/arkiv/tv-sending-24-mars/
ORGANIZER;CN=Ola Normann:MAILTO:ola.normann@markedspartner.no
DTSTAMP:20200324T080000Z
DTSTART:20200324T080000Z
DTEND:20200324T083000Z
LAST-MODIFIED:20221031T120230Z
SUMMARY:TV: Sending 24. mars
DESCRIPTION:Jæren er hovedtema under sendingen 24. mars, med gjestene Inge Brigt Aarbakke, Annette Anfinnsen og Ståle Kyllingstad.
X-ALT-DESC:J&#230;ren er hovedtema under sendingen 24. mars, med gjestene Inge Brigt Aarbakke, Annette Anfinnsen og St&#229;le Kyllingstad.
LOCATION:Facebook Live
END:VEVENT


END:VCALENDAR



