
BEGIN:VCALENDAR
VERSION:2.0
PRODID:-//MarkedsPartner AS//Umbraco CMS//NO
TIMEZONE-ID:Europe/Oslo
X-WR-TIMEZONE:Europe/Oslo


BEGIN:VEVENT
UID:f74183f540e34090ab52dd0d6661f51c
URL:https://umbraco.naeringsforeningen.no/moeter/arkiv/tv-sending-24-april/
ORGANIZER;CN=Ola Normann:MAILTO:ola.normann@markedspartner.no
DTSTAMP:20200424T070000Z
DTSTART:20200424T070000Z
DTEND:20200424T073000Z
LAST-MODIFIED:20221031T120735Z
SUMMARY:TV: Sending 24. april
DESCRIPTION:Fredagens gjester er Anders Kleinstrup, Kari Holmefjord Vervik og Lars Idar Waage.
X-ALT-DESC:Fredagens gjester er Anders Kleinstrup, Kari Holmefjord Vervik og Lars Idar Waage.
LOCATION:Facebook Live
END:VEVENT


END:VCALENDAR



