
BEGIN:VCALENDAR
VERSION:2.0
PRODID:-//MarkedsPartner AS//Umbraco CMS//NO
TIMEZONE-ID:Europe/Oslo
X-WR-TIMEZONE:Europe/Oslo


BEGIN:VEVENT
UID:8428ca78d9184cabb19fe54abac4ce02
URL:https://umbraco.naeringsforeningen.no/moeter/arkiv/tv-sending-23-mars/
ORGANIZER;CN=Ola Normann:MAILTO:ola.normann@markedspartner.no
DTSTAMP:20200323T080000Z
DTSTART:20200323T080000Z
DTEND:20200323T083000Z
LAST-MODIFIED:20221031T120227Z
SUMMARY:TV: Sending 23. mars
DESCRIPTION:Mandag presenterer vi den store medlemsundersøkelsen og får besøk av Kari Nessa Nordtun, Stanley Wirak. Marianne Chesak, Elisabeth Saupstad og Harald Minge i studio.
X-ALT-DESC:Mandag presenterer vi den store medlemsunders&#248;kelsen og f&#229;r bes&#248;k av Kari Nessa Nordtun, Stanley Wirak. Marianne Chesak, Elisabeth Saupstad og Harald Minge i studio.
LOCATION:Facebook Live
END:VEVENT


END:VCALENDAR



