
BEGIN:VCALENDAR
VERSION:2.0
PRODID:-//MarkedsPartner AS//Umbraco CMS//NO
TIMEZONE-ID:Europe/Oslo
X-WR-TIMEZONE:Europe/Oslo


BEGIN:VEVENT
UID:e8ce07e2ceae449bbaf9373a2de4e736
URL:https://umbraco.naeringsforeningen.no/moeter/arkiv/tv-sending-23-april/
ORGANIZER;CN=Ola Normann:MAILTO:ola.normann@markedspartner.no
DTSTAMP:20200423T070000Z
DTSTART:20200423T070000Z
DTEND:20200423T073000Z
LAST-MODIFIED:20221031T120719Z
SUMMARY:TV: Sending 23. april
DESCRIPTION:Torsdagens gjester er Svein Skeie fra SUS, Bjørn Maaseide fra Kraft Finans og Alex Hart fra Made With Hart.
X-ALT-DESC:Torsdagens gjester er Svein Skeie fra SUS, Bj&#248;rn Maaseide fra Kraft Finans og Alex Hart fra Made With Hart.
LOCATION:Facebook Live
END:VEVENT


END:VCALENDAR



