
BEGIN:VCALENDAR
VERSION:2.0
PRODID:-//MarkedsPartner AS//Umbraco CMS//NO
TIMEZONE-ID:Europe/Oslo
X-WR-TIMEZONE:Europe/Oslo


BEGIN:VEVENT
UID:99dbc506252e4bac895448e65ea7868e
URL:https://umbraco.naeringsforeningen.no/moeter/arkiv/tv-sending-221021/
ORGANIZER;CN=Ola Normann:MAILTO:ola.normann@markedspartner.no
DTSTAMP:20211022T070000Z
DTSTART:20211022T070000Z
DTEND:20211022T073000Z
LAST-MODIFIED:20221031T122711Z
SUMMARY:Næringsforeningen TV: Helgemagasin
DESCRIPTION:Offshore Technology Days (OTD) samlet tusener på Stavanger Forum-området denne uken. I vår helgesending oppsummerer vi det hele, sammen med OTD-general Torbjørn Olufsen. Vi tar også en prat med Jan Inge Reilstad om neste ukes KÅKÅnomics, Nordens største økonomifestival og  vi skal til Rennesøy der seilskuta «Restauration» har fått ny og trygg hjemmehavn. Og som vanlig blir det refleksjoner rundt uka som gikk med Harald Minge og Tormod Andreassen.
X-ALT-DESC:Offshore Technology Days (OTD) samlet tusener p&#229; Stavanger Forum-omr&#229;det denne uken. I v&#229;r helgesending oppsummerer vi det hele, sammen med OTD-general Torbj&#248;rn Olufsen. Vi tar ogs&#229; en prat med Jan Inge Reilstad om neste ukes K&#197;K&#197;nomics, Nordens st&#248;rste &#248;konomifestival og  vi skal til Rennes&#248;y der seilskuta &#171;Restauration&#187; har f&#229;tt ny og trygg hjemmehavn. Og som vanlig blir det refleksjoner rundt uka som gikk med Harald Minge og Tormod Andreassen.
LOCATION:Facebook Live
END:VEVENT


END:VCALENDAR



