
BEGIN:VCALENDAR
VERSION:2.0
PRODID:-//MarkedsPartner AS//Umbraco CMS//NO
TIMEZONE-ID:Europe/Oslo
X-WR-TIMEZONE:Europe/Oslo


BEGIN:VEVENT
UID:f37d951b5f42464dbc2cca9006c210eb
URL:https://umbraco.naeringsforeningen.no/moeter/arkiv/tv-sending-220421/
ORGANIZER;CN=Ola Normann:MAILTO:ola.normann@markedspartner.no
DTSTAMP:20210422T070000Z
DTSTART:20210422T070000Z
DTEND:20210422T072000Z
LAST-MODIFIED:20221031T121306Z
SUMMARY:Innflytelsesrike tech-kvinner
DESCRIPTION:Det sies at de som styrer teknologien, styrer fremtiden! For å løse utfordringer og gripe nye muligheter, er vi avhengige av tekniske problemløsere av begge kjønn. I hele verden, Europa, Norge og i Stavanger-regionen er kvinner underrepresentert i teknologibransjen. Hvorfor er det blitt sånn? De fleste er enig i at vi må jobbe for å få flere kvinner i teknologibransjen. Har næringslivet erkjent at dette er et problem?
 
Dette er tema for dagens sending, når vi får besøk av Ane Marte Hausken, administrerende direktør i Smartly og Anja Loug Helland, medgründer av BI Builders. Begge ble nylig kåret til to av de mest innflytelsesrike tech kvinnene i Norge.
X-ALT-DESC:Det sies at de som styrer teknologien, styrer fremtiden! For &#229; l&#248;se utfordringer og gripe nye muligheter, er vi avhengige av tekniske probleml&#248;sere av begge kj&#248;nn. I hele verden, Europa, Norge og i Stavanger-regionen er kvinner underrepresentert i teknologibransjen. Hvorfor er det blitt s&#229;nn? De fleste er enig i at vi m&#229; jobbe for &#229; f&#229; flere kvinner i teknologibransjen. Har n&#230;ringslivet erkjent at dette er et problem?
 
Dette er tema for dagens sending, n&#229;r vi f&#229;r bes&#248;k av Ane Marte Hausken, administrerende direkt&#248;r i Smartly og Anja Loug Helland, medgr&#252;nder av BI Builders. Begge ble nylig k&#229;ret til to av de mest innflytelsesrike tech kvinnene i Norge.
LOCATION:Facebook Live
END:VEVENT


END:VCALENDAR



