
BEGIN:VCALENDAR
VERSION:2.0
PRODID:-//MarkedsPartner AS//Umbraco CMS//NO
TIMEZONE-ID:Europe/Oslo
X-WR-TIMEZONE:Europe/Oslo


BEGIN:VEVENT
UID:b91d271a10494d288950b1d603935039
URL:https://umbraco.naeringsforeningen.no/moeter/arkiv/tv-sending-22-mai/
ORGANIZER;CN=Ola Normann:MAILTO:ola.normann@markedspartner.no
DTSTAMP:20200522T070000Z
DTSTART:20200522T070000Z
DTEND:20200522T073000Z
LAST-MODIFIED:20221031T121101Z
SUMMARY:TV: Sending 22. mai
DESCRIPTION:Best i verden på energi og sykkel! Jez Averty er plassjef for Equinors hovedkontor i Stavanger. Nå handler det om å håndtere den tøffeste krisen i næringens historie.
X-ALT-DESC:Best i verden p&#229; energi og sykkel! Jez Averty er plassjef for Equinors hovedkontor i Stavanger. N&#229; handler det om &#229; h&#229;ndtere den t&#248;ffeste krisen i n&#230;ringens historie.
LOCATION:Facebook Live
END:VEVENT


END:VCALENDAR



