
BEGIN:VCALENDAR
VERSION:2.0
PRODID:-//MarkedsPartner AS//Umbraco CMS//NO
TIMEZONE-ID:Europe/Oslo
X-WR-TIMEZONE:Europe/Oslo


BEGIN:VEVENT
UID:7ce4f4488a5d407db1b9477af85e3a03
URL:https://umbraco.naeringsforeningen.no/moeter/arkiv/tv-sending-22-april/
ORGANIZER;CN=Ola Normann:MAILTO:ola.normann@markedspartner.no
DTSTAMP:20200422T070000Z
DTSTART:20200422T070000Z
DTEND:20200422T073000Z
LAST-MODIFIED:20221031T120707Z
SUMMARY:TV: Sending 22. april
DESCRIPTION:Onsdag får vi besøk av Gunnar Eiterjord, Ole Petter Søllesvik og Ragnvald Albretsen i studio.
X-ALT-DESC:Onsdag f&#229;r vi bes&#248;k av Gunnar Eiterjord, Ole Petter S&#248;llesvik og Ragnvald Albretsen i studio.
LOCATION:Facebook Live
END:VEVENT


END:VCALENDAR



