
BEGIN:VCALENDAR
VERSION:2.0
PRODID:-//MarkedsPartner AS//Umbraco CMS//NO
TIMEZONE-ID:Europe/Oslo
X-WR-TIMEZONE:Europe/Oslo


BEGIN:VEVENT
UID:c1111dabffb1427ebdd7791d241e658c
URL:https://umbraco.naeringsforeningen.no/moeter/arkiv/tv-sending-210521/
ORGANIZER;CN=Ola Normann:MAILTO:ola.normann@markedspartner.no
DTSTAMP:20210521T070000Z
DTSTART:20210521T070000Z
DTEND:20210521T072000Z
LAST-MODIFIED:20221031T121734Z
SUMMARY:Simulatorer for industri og romfart
DESCRIPTION:Forus-selskapet PaleBlue startet med å utvikle simulatorer for farlige dykkeroppdrag i offshoreindustrien og endte opp med å levere virtuelt opplæringsverktøy til atstronauter. Det er fredag og det skal handle om nye muligheter med Harald Minge og Tormod Andreassen. Dagens gjest er Egil Thomas Andersen.
X-ALT-DESC:Forus-selskapet PaleBlue startet med &#229; utvikle simulatorer for farlige dykkeroppdrag i offshoreindustrien og endte opp med &#229; levere virtuelt oppl&#230;ringsverkt&#248;y til atstronauter. Det er fredag og det skal handle om nye muligheter med Harald Minge og Tormod Andreassen. Dagens gjest er Egil Thomas Andersen.
LOCATION:Facebook Live
END:VEVENT


END:VCALENDAR



