
BEGIN:VCALENDAR
VERSION:2.0
PRODID:-//MarkedsPartner AS//Umbraco CMS//NO
TIMEZONE-ID:Europe/Oslo
X-WR-TIMEZONE:Europe/Oslo


BEGIN:VEVENT
UID:4a4b075ca5d04c8484befc7af0cf09f0
URL:https://umbraco.naeringsforeningen.no/moeter/arkiv/tv-sending-210430/
ORGANIZER;CN=Ola Normann:MAILTO:ola.normann@markedspartner.no
DTSTAMP:20210430T070000Z
DTSTART:20210430T070000Z
DTEND:20210430T072000Z
LAST-MODIFIED:20221031T121349Z
SUMMARY:Validé – i sentrum for nye muligheter
DESCRIPTION:Validé på Ullandhaug har en nøkkelrolle når det gjelder omstilling og er et av regionens viktigste verktøy for å lede forskning, etablerte selskaper og gründere mot nye muligheter. Spesielt rettes oppmerksomheten inn mot energi, helse og IT. Det første adm. direktør Anne Cathrin Østebø tenker på når hun våkner hver morgen er hvordan vi skal klare å skape nye arbeidsplasser. Hun er gjesten til Harald Minge og Tormod Andreassen i fredagsprogrammet Nye muligheter.
X-ALT-DESC:Valid&#233; p&#229; Ullandhaug har en n&#248;kkelrolle n&#229;r det gjelder omstilling og er et av regionens viktigste verkt&#248;y for &#229; lede forskning, etablerte selskaper og gr&#252;ndere mot nye muligheter. Spesielt rettes oppmerksomheten inn mot energi, helse og IT. Det f&#248;rste adm. direkt&#248;r Anne Cathrin &#216;steb&#248; tenker p&#229; n&#229;r hun v&#229;kner hver morgen er hvordan vi skal klare &#229; skape nye arbeidsplasser. Hun er gjesten til Harald Minge og Tormod Andreassen i fredagsprogrammet Nye muligheter.
LOCATION:Facebook Live
END:VEVENT


END:VCALENDAR



