
BEGIN:VCALENDAR
VERSION:2.0
PRODID:-//MarkedsPartner AS//Umbraco CMS//NO
TIMEZONE-ID:Europe/Oslo
X-WR-TIMEZONE:Europe/Oslo


BEGIN:VEVENT
UID:ef6b9b047c78456aab032fc1034b2b36
URL:https://umbraco.naeringsforeningen.no/moeter/arkiv/tv-sending-210429/
ORGANIZER;CN=Ola Normann:MAILTO:ola.normann@markedspartner.no
DTSTAMP:20210429T070000Z
DTSTART:20210429T070000Z
DTEND:20210429T072000Z
LAST-MODIFIED:20221031T121337Z
SUMMARY:Møt Næringsforeningens nye styreleder
DESCRIPTION:Hanne N. Berentzen skal lede Næringsforeningens nye styre. Det har vært et utfordrende år for veldig mange av våre 2000 medlemsbedrifter, men nå er det duket for en skikkelig restart og tid for å se framover mot de nye mulighetene.
X-ALT-DESC:Hanne N. Berentzen skal lede N&#230;ringsforeningens nye styre. Det har v&#230;rt et utfordrende &#229;r for veldig mange av v&#229;re 2000 medlemsbedrifter, men n&#229; er det duket for en skikkelig restart og tid for &#229; se framover mot de nye mulighetene.
LOCATION:Facebook Live
END:VEVENT


END:VCALENDAR



