
BEGIN:VCALENDAR
VERSION:2.0
PRODID:-//MarkedsPartner AS//Umbraco CMS//NO
TIMEZONE-ID:Europe/Oslo
X-WR-TIMEZONE:Europe/Oslo


BEGIN:VEVENT
UID:81adba6f4aa84e6faefdfd29f4394d49
URL:https://umbraco.naeringsforeningen.no/moeter/arkiv/tv-sending-210428/
ORGANIZER;CN=Ola Normann:MAILTO:ola.normann@markedspartner.no
DTSTAMP:20210428T070000Z
DTSTART:20210428T070000Z
DTEND:20210428T072000Z
LAST-MODIFIED:20221031T121329Z
SUMMARY:Forus-planen og ny kommunedebatt
DESCRIPTION:Arbeidet med den såkalte Forus-planen har både vakt bekymring, raseri og oppgitthet blant næringsdrivende på Forus. Nå er nok et forslag ute på høring. Samtidig har Rogaland Høyre blåst nytt liv i debatten om kommunesammenslåinger. Siri Nybø i TVEDT Eiendom er med oss i denne sendingen. Det er også Margret Hagerup, stortingsrepresentant for Høyre.
X-ALT-DESC:Arbeidet med den s&#229;kalte Forus-planen har b&#229;de vakt bekymring, raseri og oppgitthet blant n&#230;ringsdrivende p&#229; Forus. N&#229; er nok et forslag ute p&#229; h&#248;ring. Samtidig har Rogaland H&#248;yre bl&#229;st nytt liv i debatten om kommunesammensl&#229;inger. Siri Nyb&#248; i TVEDT Eiendom er med oss i denne sendingen. Det er ogs&#229; Margret Hagerup, stortingsrepresentant for H&#248;yre.
LOCATION:Facebook Live
END:VEVENT


END:VCALENDAR



