
BEGIN:VCALENDAR
VERSION:2.0
PRODID:-//MarkedsPartner AS//Umbraco CMS//NO
TIMEZONE-ID:Europe/Oslo
X-WR-TIMEZONE:Europe/Oslo


BEGIN:VEVENT
UID:ef579c756cb34be599a12b9379e81f65
URL:https://umbraco.naeringsforeningen.no/moeter/arkiv/tv-sending-210427/
ORGANIZER;CN=Ola Normann:MAILTO:ola.normann@markedspartner.no
DTSTAMP:20210427T070000Z
DTSTART:20210427T070000Z
DTEND:20210427T072000Z
LAST-MODIFIED:20221031T121322Z
SUMMARY:Flere faller utenfor etter koronakrisen
DESCRIPTION:Stadig flere faller utenfor arbeidslivet i Norge, og koronapandemien har forsterket de utfordringene mange i dag har. Hvordan vi angriper det, er tema i dagens sending. Vi får besøk av UiS-professor Mari Rege og Tone Gudmestad, nestleder i ressursgruppen Inkluderende arbeidsliv, i dagens sending.
X-ALT-DESC:Stadig flere faller utenfor arbeidslivet i Norge, og koronapandemien har forsterket de utfordringene mange i dag har. Hvordan vi angriper det, er tema i dagens sending. Vi f&#229;r bes&#248;k av UiS-professor Mari Rege og Tone Gudmestad, nestleder i ressursgruppen Inkluderende arbeidsliv, i dagens sending.
LOCATION:Facebook Live
END:VEVENT


END:VCALENDAR



