
BEGIN:VCALENDAR
VERSION:2.0
PRODID:-//MarkedsPartner AS//Umbraco CMS//NO
TIMEZONE-ID:Europe/Oslo
X-WR-TIMEZONE:Europe/Oslo


BEGIN:VEVENT
UID:d2ac3c1a614146d3a68644c88b4a255e
URL:https://umbraco.naeringsforeningen.no/moeter/arkiv/tv-sending-210426/
ORGANIZER;CN=Ola Normann:MAILTO:ola.normann@markedspartner.no
DTSTAMP:20210426T070000Z
DTSTART:20210426T070000Z
DTEND:20210426T072000Z
LAST-MODIFIED:20221031T121315Z
SUMMARY:Hva betyr rekordmange UiS-søkere?
DESCRIPTION:Søknadstallene til UiS er høyere enn noen gang. Rune Dahl Fitjar, prorektor for innovasjon og samfunn ved Universitetet i Stavanger, kommer for å forklare konsekvensene og betydningen av tallene – og direktør ved BI Stavanger, Monica Hammervold,  forteller om deres opptak.
X-ALT-DESC:S&#248;knadstallene til UiS er h&#248;yere enn noen gang. Rune Dahl Fitjar, prorektor for innovasjon og samfunn ved Universitetet i Stavanger, kommer for &#229; forklare konsekvensene og betydningen av tallene – og direkt&#248;r ved BI Stavanger, Monica Hammervold,  forteller om deres opptak.
LOCATION:Facebook Live
END:VEVENT


END:VCALENDAR



