
BEGIN:VCALENDAR
VERSION:2.0
PRODID:-//MarkedsPartner AS//Umbraco CMS//NO
TIMEZONE-ID:Europe/Oslo
X-WR-TIMEZONE:Europe/Oslo


BEGIN:VEVENT
UID:e000eb5ae3d24997b5c32b5b08e60ec7
URL:https://umbraco.naeringsforeningen.no/moeter/arkiv/tv-sending-210423/
ORGANIZER;CN=Ola Normann:MAILTO:ola.normann@markedspartner.no
DTSTAMP:20210423T070000Z
DTSTART:20210423T070000Z
DTEND:20210423T072000Z
LAST-MODIFIED:20221031T121309Z
SUMMARY:Roboteventyr på Jæren
DESCRIPTION:I 2017 sa Annette Anfinnsen opp fast jobb for å lage roboter. Hun hadde en drøm om å bringe videre de jærske tradisjonene innen robotløsninger til industrien, logistikksentre, helse og flyplasser. Selskapet hennes heter Robotics innovation, og nå begynner kundene å strømme til. Annette er gjesten til Harald Minge og Tormod Andreassen i programmet Nye muligheter fredag morgen.
X-ALT-DESC:I 2017 sa Annette Anfinnsen opp fast jobb for &#229; lage roboter. Hun hadde en dr&#248;m om &#229; bringe videre de j&#230;rske tradisjonene innen robotl&#248;sninger til industrien, logistikksentre, helse og flyplasser. Selskapet hennes heter Robotics innovation, og n&#229; begynner kundene &#229; str&#248;mme til. Annette er gjesten til Harald Minge og Tormod Andreassen i programmet Nye muligheter fredag morgen.
LOCATION:Facebook Live
END:VEVENT


END:VCALENDAR



