
BEGIN:VCALENDAR
VERSION:2.0
PRODID:-//MarkedsPartner AS//Umbraco CMS//NO
TIMEZONE-ID:Europe/Oslo
X-WR-TIMEZONE:Europe/Oslo


BEGIN:VEVENT
UID:f47a3ffb7cf74d3397e7faf8c6ab284a
URL:https://umbraco.naeringsforeningen.no/moeter/arkiv/tv-sending-210421/
ORGANIZER;CN=Ola Normann:MAILTO:ola.normann@markedspartner.no
DTSTAMP:20210421T070000Z
DTSTART:20210421T070000Z
DTEND:20210421T072000Z
LAST-MODIFIED:20221031T121231Z
SUMMARY:Koronautsiktene, strenge tiltak og hjemmekontor
DESCRIPTION:Hvordan ser smittesituasjonen ut per i dag på Nord-Jæren, hvem rammes og hva kan man si om utsiktene? Og hvordan løser bedrifter og store organisasjoner oppfordringen om hjemmekontor og strenge smittevernregler? Vi får besøk av smittevernoverlege Lars Kåre Kleppe ved SUS, konsulentsjef Hilda Bådsvik  og direktør for Atea i Stavanger, Espen Riska. Programleder Ståle Frafjord, som er i karantene, er med på link.
X-ALT-DESC:Hvordan ser smittesituasjonen ut per i dag p&#229; Nord-J&#230;ren, hvem rammes og hva kan man si om utsiktene? Og hvordan l&#248;ser bedrifter og store organisasjoner oppfordringen om hjemmekontor og strenge smittevernregler? Vi f&#229;r bes&#248;k av smittevernoverlege Lars K&#229;re Kleppe ved SUS, konsulentsjef Hilda B&#229;dsvik  og direkt&#248;r for Atea i Stavanger, Espen Riska. Programleder St&#229;le Frafjord, som er i karantene, er med p&#229; link.
LOCATION:Facebook Live
END:VEVENT


END:VCALENDAR



