
BEGIN:VCALENDAR
VERSION:2.0
PRODID:-//MarkedsPartner AS//Umbraco CMS//NO
TIMEZONE-ID:Europe/Oslo
X-WR-TIMEZONE:Europe/Oslo


BEGIN:VEVENT
UID:84a46d51d81e49158c15edc25c965c93
URL:https://umbraco.naeringsforeningen.no/moeter/arkiv/tv-sending-210324/
ORGANIZER;CN=Ola Normann:MAILTO:ola.normann@markedspartner.no
DTSTAMP:20210324T080000Z
DTSTART:20210324T080000Z
DTEND:20210324T082000Z
LAST-MODIFIED:20221031T120941Z
SUMMARY:En tv-sending du blir glad av 
DESCRIPTION:Onsdag morgen og en sending med kun kjekke nyheter! Spis ute ugå er i gang og matglade mennesker kan gjøre matkupp i Norges gastronomihovedstad. Prosjektleder Andreas P. Berg forteller det du trenger å vite. Samtidig presenterer Stavanger kommune prosjektet Lyspunkt! Til påsken skal nemlig kommunen legge ut hundrevis av påskeegg. Kan næringslivet matche dette?, spør Lene Klovning, som kommer i studio.
X-ALT-DESC:Onsdag morgen og en sending med kun kjekke nyheter! Spis ute ug&#229; er i gang og matglade mennesker kan gj&#248;re matkupp i Norges gastronomihovedstad. Prosjektleder Andreas P. Berg forteller det du trenger &#229; vite. Samtidig presenterer Stavanger kommune prosjektet Lyspunkt! Til p&#229;sken skal nemlig kommunen legge ut hundrevis av p&#229;skeegg. Kan n&#230;ringslivet matche dette?, sp&#248;r Lene Klovning, som kommer i studio.
LOCATION:Facebook Live
END:VEVENT


END:VCALENDAR



