
BEGIN:VCALENDAR
VERSION:2.0
PRODID:-//MarkedsPartner AS//Umbraco CMS//NO
TIMEZONE-ID:Europe/Oslo
X-WR-TIMEZONE:Europe/Oslo


BEGIN:VEVENT
UID:83fdc858730a41059f488e7b14166341
URL:https://umbraco.naeringsforeningen.no/moeter/arkiv/tv-sending-210323/
ORGANIZER;CN=Ola Normann:MAILTO:ola.normann@markedspartner.no
DTSTAMP:20210323T080000Z
DTSTART:20210323T080000Z
DTEND:20210323T082000Z
LAST-MODIFIED:20221031T120935Z
SUMMARY:Hva vil vi med Forum-området?
DESCRIPTION:Det er investert milliarder i Forum-området; nye haller, bygg og hotell. Men hvordan kan fasilitetene utnyttes, hvilke muligheter og utfordringer finnes, og hvordan styrker man samarbeidet mellom offentlige og kommersielle aktører i området. Gjermund Dahl, hotelldirektør Clarion Hotel Energy, Margrete Urdal Stople, daglig leder for IMI Forum, og Per Morten Harr, kongressjef Region Stavanger, er våre gjester i dagens sending.
X-ALT-DESC:Det er investert milliarder i Forum-omr&#229;det; nye haller, bygg og hotell. Men hvordan kan fasilitetene utnyttes, hvilke muligheter og utfordringer finnes, og hvordan styrker man samarbeidet mellom offentlige og kommersielle akt&#248;rer i omr&#229;det. Gjermund Dahl, hotelldirekt&#248;r Clarion Hotel Energy, Margrete Urdal Stople, daglig leder for IMI Forum, og Per Morten Harr, kongressjef Region Stavanger, er v&#229;re gjester i dagens sending.
LOCATION:Facebook Live
END:VEVENT


END:VCALENDAR



