
BEGIN:VCALENDAR
VERSION:2.0
PRODID:-//MarkedsPartner AS//Umbraco CMS//NO
TIMEZONE-ID:Europe/Oslo
X-WR-TIMEZONE:Europe/Oslo


BEGIN:VEVENT
UID:c2d1d0cb7ff84923ba72b8e0bf5e4c0a
URL:https://umbraco.naeringsforeningen.no/moeter/arkiv/tv-sending-210322/
ORGANIZER;CN=Ola Normann:MAILTO:ola.normann@markedspartner.no
DTSTAMP:20210322T080000Z
DTSTART:20210322T080000Z
DTEND:20210322T082000Z
LAST-MODIFIED:20221031T120924Z
SUMMARY:Slik er NTP og dette kan bli endret
DESCRIPTION:Fredag ble forslaget til Nasjonal Transportplan (NTP) lagt frem. For Rogaland betyr det både gleder og skuffelser. Hvilke prosjekter realiseres, hvilke nedprioriteres og hva er det håp om å få endret? Det er tema for denne sendingen. Fylkesvaraordfører Arne Bergsvåg (Sp) og Tormod Andreassen, næringspolitisk leder i Næringsforeningen, er gjester.
X-ALT-DESC:Fredag ble forslaget til Nasjonal Transportplan (NTP) lagt frem. For Rogaland betyr det b&#229;de gleder og skuffelser. Hvilke prosjekter realiseres, hvilke nedprioriteres og hva er det h&#229;p om &#229; f&#229; endret? Det er tema for denne sendingen. Fylkesvaraordf&#248;rer Arne Bergsv&#229;g (Sp) og Tormod Andreassen, n&#230;ringspolitisk leder i N&#230;ringsforeningen, er gjester.
LOCATION:Facebook Live
END:VEVENT


END:VCALENDAR



