
BEGIN:VCALENDAR
VERSION:2.0
PRODID:-//MarkedsPartner AS//Umbraco CMS//NO
TIMEZONE-ID:Europe/Oslo
X-WR-TIMEZONE:Europe/Oslo


BEGIN:VEVENT
UID:a7d5a0f1ac524526af54f78734084eec
URL:https://umbraco.naeringsforeningen.no/moeter/arkiv/tv-sending-210319/
ORGANIZER;CN=Ola Normann:MAILTO:ola.normann@markedspartner.no
DTSTAMP:20210319T080000Z
DTSTART:20210319T080000Z
DTEND:20210319T082000Z
LAST-MODIFIED:20221031T120916Z
SUMMARY:Teknologieventyret Boost.AI
DESCRIPTION:De startet med en aksjekapital på kr 30.000 i 2016 og ble priset til to milliarder kroner for to uker siden. Boost.AI har hatt en eventyrlig reise og nå venter nye eventyr. Camilla Gjetvik er gjest i fredagssendingen til Tormod Andreassen og Harald Minge som denne gangen handler om kunstig intelligens.
X-ALT-DESC:De startet med en aksjekapital p&#229; kr 30.000 i 2016 og ble priset til to milliarder kroner for to uker siden. Boost.AI har hatt en eventyrlig reise og n&#229; venter nye eventyr. Camilla Gjetvik er gjest i fredagssendingen til Tormod Andreassen og Harald Minge som denne gangen handler om kunstig intelligens.
LOCATION:Facebook Live
END:VEVENT


END:VCALENDAR



