
BEGIN:VCALENDAR
VERSION:2.0
PRODID:-//MarkedsPartner AS//Umbraco CMS//NO
TIMEZONE-ID:Europe/Oslo
X-WR-TIMEZONE:Europe/Oslo


BEGIN:VEVENT
UID:5d1b74cb76af465a9f131c8a7cf6a4d9
URL:https://umbraco.naeringsforeningen.no/moeter/arkiv/tv-sending-210317/
ORGANIZER;CN=Ola Normann:MAILTO:ola.normann@markedspartner.no
DTSTAMP:20210317T080000Z
DTSTART:20210317T080000Z
DTEND:20210317T082000Z
LAST-MODIFIED:20221031T120856Z
SUMMARY:Hvordan blir flytilbudet etter pandemien?
DESCRIPTION:Vil vi begynne å reise med fly igjen når koronarestriksjonene opphører, og hvilke flyruter vil være tilgjengelige fra Sola når vi endelig kan begynne å reise som normalt? Med oss i studio har vi Filip Aven fra Avinor som arbeider med ruteutvikling og Halvor Gløersen, salgsdirektør i Norge for Air France, KLM og Delta.
X-ALT-DESC:Vil vi begynne &#229; reise med fly igjen n&#229;r koronarestriksjonene opph&#248;rer, og hvilke flyruter vil v&#230;re tilgjengelige fra Sola n&#229;r vi endelig kan begynne &#229; reise som normalt? Med oss i studio har vi Filip Aven fra Avinor som arbeider med ruteutvikling og Halvor Gl&#248;ersen, salgsdirekt&#248;r i Norge for Air France, KLM og Delta.
LOCATION:Facebook Live
END:VEVENT


END:VCALENDAR



