
BEGIN:VCALENDAR
VERSION:2.0
PRODID:-//MarkedsPartner AS//Umbraco CMS//NO
TIMEZONE-ID:Europe/Oslo
X-WR-TIMEZONE:Europe/Oslo


BEGIN:VEVENT
UID:430ca1e9bda64f439cfd384b79eb9e4a
URL:https://umbraco.naeringsforeningen.no/moeter/arkiv/tv-sending-210317-aarets-bedrift-2020/
ORGANIZER;CN=Ola Normann:MAILTO:ola.normann@markedspartner.no
DTSTAMP:20210317T193000Z
DTSTART:20210317T193000Z
DTEND:20210317T200000Z
LAST-MODIFIED:20221031T120850Z
SUMMARY:Ekstra TV-sending: Årets bedrift 2020
DESCRIPTION:Hvem blir vinneren av Årets bedrift 2020? Bli med og se om det blir Gilje Tre AS, Naboen AS, Navtor AS, Stangeland Gruppen AS eller Aarbakke AS som kan smykke seg med tittelen Årets bedrift 2020!
X-ALT-DESC:Hvem blir vinneren av &#197;rets bedrift 2020? Bli med og se om det blir Gilje Tre AS, Naboen AS, Navtor AS, Stangeland Gruppen AS eller Aarbakke AS som kan smykke seg med tittelen &#197;rets bedrift 2020!
LOCATION:Facebook Live
END:VEVENT


END:VCALENDAR



