
BEGIN:VCALENDAR
VERSION:2.0
PRODID:-//MarkedsPartner AS//Umbraco CMS//NO
TIMEZONE-ID:Europe/Oslo
X-WR-TIMEZONE:Europe/Oslo


BEGIN:VEVENT
UID:a3deeae05cb64cad84b4b905a398c7c6
URL:https://umbraco.naeringsforeningen.no/moeter/arkiv/tv-sending-210315/
ORGANIZER;CN=Ola Normann:MAILTO:ola.normann@markedspartner.no
DTSTAMP:20210315T080000Z
DTSTART:20210315T080000Z
DTEND:20210315T082000Z
LAST-MODIFIED:20221031T120815Z
SUMMARY:Nordic Edge går Cross-Atlantic
DESCRIPTION:Når Nordic Edge ikke kan dra til Austin og SXSW, så lar de SXSW komme til seg. I mandagens sending kommer Karina Lavik i studio for å fortelle om den digitale konferansen Nordic Edge Cross-Atlantic.
X-ALT-DESC:N&#229;r Nordic Edge ikke kan dra til Austin og SXSW, s&#229; lar de SXSW komme til seg. I mandagens sending kommer Karina Lavik i studio for &#229; fortelle om den digitale konferansen Nordic Edge Cross-Atlantic.
LOCATION:Facebook Live
END:VEVENT


END:VCALENDAR



