
BEGIN:VCALENDAR
VERSION:2.0
PRODID:-//MarkedsPartner AS//Umbraco CMS//NO
TIMEZONE-ID:Europe/Oslo
X-WR-TIMEZONE:Europe/Oslo


BEGIN:VEVENT
UID:99a8ce406abd4441b9caece0df4f3a59
URL:https://umbraco.naeringsforeningen.no/moeter/arkiv/tv-sending-210312/
ORGANIZER;CN=Ola Normann:MAILTO:ola.normann@markedspartner.no
DTSTAMP:20210312T080000Z
DTSTART:20210312T080000Z
DTEND:20210312T082000Z
LAST-MODIFIED:20221031T120808Z
SUMMARY:Sikter seg inn på globalt solkrafteventyr
DESCRIPTION:Det er fredag, og det betyr at vi skal snakke om Nye muligheter. Nylig inngikk Norsk Solar en avtale i Vietnam på hundre millioner kroner. Stavanger-selskapet skal levere solenergi til en rekke kjøpesentre. Harald Minge og Tormod Andreassen er som vanlig i studio – og dagens gjest er Øyvind L. Vesterdal fra Norsk Solar.
X-ALT-DESC:Det er fredag, og det betyr at vi skal snakke om Nye muligheter. Nylig inngikk Norsk Solar en avtale i Vietnam p&#229; hundre millioner kroner. Stavanger-selskapet skal levere solenergi til en rekke kj&#248;pesentre. Harald Minge og Tormod Andreassen er som vanlig i studio – og dagens gjest er &#216;yvind L. Vesterdal fra Norsk Solar.
LOCATION:Facebook Live
END:VEVENT


END:VCALENDAR



