
BEGIN:VCALENDAR
VERSION:2.0
PRODID:-//MarkedsPartner AS//Umbraco CMS//NO
TIMEZONE-ID:Europe/Oslo
X-WR-TIMEZONE:Europe/Oslo


BEGIN:VEVENT
UID:f5dae13617a744afbd713c94c6e88583
URL:https://umbraco.naeringsforeningen.no/moeter/arkiv/tv-sending-210311/
ORGANIZER;CN=Ola Normann:MAILTO:ola.normann@markedspartner.no
DTSTAMP:20210311T080000Z
DTSTART:20210311T080000Z
DTEND:20210311T082000Z
LAST-MODIFIED:20221031T120801Z
SUMMARY:Slik blir de lokale krisepakkene
DESCRIPTION:Politikerne i Sandnes og Stavanger har nå besluttet hvordan de skal fordele de lokale krisemillionene til næringslivet. Vi får besøk av næringssjefene i henholdsvis Stavanger og Sandnes, Anne Woie og Nina Othilie Høiland, som forteller oss hvordan det blir og hvem som kan søke.
X-ALT-DESC:Politikerne i Sandnes og Stavanger har n&#229; besluttet hvordan de skal fordele de lokale krisemillionene til n&#230;ringslivet. Vi f&#229;r bes&#248;k av n&#230;ringssjefene i henholdsvis Stavanger og Sandnes, Anne Woie og Nina Othilie H&#248;iland, som forteller oss hvordan det blir og hvem som kan s&#248;ke.
LOCATION:Facebook Live
END:VEVENT


END:VCALENDAR



