
BEGIN:VCALENDAR
VERSION:2.0
PRODID:-//MarkedsPartner AS//Umbraco CMS//NO
TIMEZONE-ID:Europe/Oslo
X-WR-TIMEZONE:Europe/Oslo


BEGIN:VEVENT
UID:ba8f42d544e9400a99cccf07ba9482a0
URL:https://umbraco.naeringsforeningen.no/moeter/arkiv/tv-sending-210308/
ORGANIZER;CN=Ola Normann:MAILTO:ola.normann@markedspartner.no
DTSTAMP:20210308T080000Z
DTSTART:20210308T080000Z
DTEND:20210308T082000Z
LAST-MODIFIED:20221031T120723Z
SUMMARY:Dette er likestillingsprogrammet 50/50
DESCRIPTION:For et år siden ble Næringsforeningens likestillingsprogram 50/50 lansert. Nå er programmet i full gang med over 20 engasjerte virksomheter. Hva programmet går ut på og hvorfor det er lansert, er tema for dagens sending. Hanne Berentzen fra ressursgruppen og Ostehuset, Siv Madland fra Kluge Advokatfirma og Thomas N. Middelthon fra Sandnes Sparebank er våre gjester.
X-ALT-DESC:For et &#229;r siden ble N&#230;ringsforeningens likestillingsprogram&#160;50/50&#160;lansert.&#160;N&#229; er programmet i full gang med over 20 engasjerte virksomheter. Hva programmet g&#229;r ut p&#229; og hvorfor det er lansert, er tema for dagens sending. Hanne Berentzen fra ressursgruppen og Ostehuset, Siv Madland fra Kluge Advokatfirma og Thomas N. Middelthon fra Sandnes Sparebank er v&#229;re gjester.
LOCATION:Facebook Live
END:VEVENT


END:VCALENDAR



