
BEGIN:VCALENDAR
VERSION:2.0
PRODID:-//MarkedsPartner AS//Umbraco CMS//NO
TIMEZONE-ID:Europe/Oslo
X-WR-TIMEZONE:Europe/Oslo


BEGIN:VEVENT
UID:e41eb198d0364705979f79682cb314ea
URL:https://umbraco.naeringsforeningen.no/moeter/arkiv/tv-sending-210308-1/
ORGANIZER;CN=Ola Normann:MAILTO:ola.normann@markedspartner.no
DTSTAMP:20210309T080000Z
DTSTART:20210309T080000Z
DTEND:20210309T082000Z
LAST-MODIFIED:20221031T120751Z
SUMMARY:Slik rammes næringslivet av datakriminalitet
DESCRIPTION:Stadig flere utsettes for datakriminalitet og forsøk på svindel. Det omfatter både privatpersoner og bedrifter. Stavanger Utvikling er en av dem som ble rammet. Hans Kjetil Aas fra Stavanger Utvikling og Kyrre Lindanger i Sør-Vest politidistrikt er med oss i dagens sending.
X-ALT-DESC:Stadig flere utsettes for datakriminalitet og fors&#248;k p&#229; svindel. Det omfatter b&#229;de privatpersoner og bedrifter. Stavanger Utvikling er en av dem som ble rammet. Hans Kjetil Aas fra Stavanger Utvikling og Kyrre Lindanger i S&#248;r-Vest politidistrikt er med oss i dagens sending.
LOCATION:Facebook Live
END:VEVENT


END:VCALENDAR



