
BEGIN:VCALENDAR
VERSION:2.0
PRODID:-//MarkedsPartner AS//Umbraco CMS//NO
TIMEZONE-ID:Europe/Oslo
X-WR-TIMEZONE:Europe/Oslo


BEGIN:VEVENT
UID:21c5111db3bd4490b07e7598b6d2c9aa
URL:https://umbraco.naeringsforeningen.no/moeter/arkiv/tv-sending-210226/
ORGANIZER;CN=Ola Normann:MAILTO:ola.normann@markedspartner.no
DTSTAMP:20210226T080000Z
DTSTART:20210226T080000Z
DTEND:20210226T082000Z
LAST-MODIFIED:20221031T120710Z
SUMMARY:Fra Tau til Mars
DESCRIPTION:Det begynte med produksjon av fiskestenger i en låve på Tau for 70 år siden. For en drøy uke siden landet NASAs rover på Mars med en antenne fra Comrod om bord. Det er fredag, og det skal handle om nye muligheter med Harald Minge og Tormod Andreassen. I studio får de besøk av Ole Gunnar Fjelde fra Comrod.
X-ALT-DESC:Det begynte med produksjon av fiskestenger i en l&#229;ve p&#229; Tau for 70 &#229;r siden. For en dr&#248;y uke siden landet NASAs rover p&#229; Mars med en antenne fra Comrod om bord. Det er fredag, og det skal handle om nye muligheter med Harald Minge og Tormod Andreassen. I studio f&#229;r de bes&#248;k av Ole Gunnar Fjelde fra Comrod.
LOCATION:Facebook Live
END:VEVENT


END:VCALENDAR



