
BEGIN:VCALENDAR
VERSION:2.0
PRODID:-//MarkedsPartner AS//Umbraco CMS//NO
TIMEZONE-ID:Europe/Oslo
X-WR-TIMEZONE:Europe/Oslo


BEGIN:VEVENT
UID:f2ee64047f6944e9b426b4898a890982
URL:https://umbraco.naeringsforeningen.no/moeter/arkiv/tv-sending-210225/
ORGANIZER;CN=Ola Normann:MAILTO:ola.normann@markedspartner.no
DTSTAMP:20210225T080000Z
DTSTART:20210225T080000Z
DTEND:20210225T082000Z
LAST-MODIFIED:20221031T120701Z
SUMMARY:Utvikling av Pedersgata
DESCRIPTION:I lokalavisene kalles han for kongen av Pedersgata. I løpet av få år har Anders Ohm kjøpt og investert i en rekke boliger i området Pedersgata og Nytorget gjennom selskapet Pedersgata Utvikling. Hvorfor, og hva Anders Ohm mener om byutvikling, skal du få vite mer om i denne sendingen.
X-ALT-DESC:I lokalavisene kalles han for kongen av Pedersgata. I l&#248;pet av f&#229; &#229;r har Anders Ohm kj&#248;pt og investert i en rekke boliger i omr&#229;det Pedersgata og Nytorget gjennom selskapet Pedersgata Utvikling. Hvorfor, og hva Anders Ohm mener om byutvikling, skal du f&#229; vite mer om i denne sendingen.
LOCATION:Facebook Live
END:VEVENT


END:VCALENDAR



