
BEGIN:VCALENDAR
VERSION:2.0
PRODID:-//MarkedsPartner AS//Umbraco CMS//NO
TIMEZONE-ID:Europe/Oslo
X-WR-TIMEZONE:Europe/Oslo


BEGIN:VEVENT
UID:bcc536c2ae2e45098b592b1b4e6b45a3
URL:https://umbraco.naeringsforeningen.no/moeter/arkiv/tv-sending-210224/
ORGANIZER;CN=Ola Normann:MAILTO:ola.normann@markedspartner.no
DTSTAMP:20210224T080000Z
DTSTART:20210224T080000Z
DTEND:20210224T082000Z
LAST-MODIFIED:20221031T120655Z
SUMMARY:Hva skal barnet hete?
DESCRIPTION:Stavangers neste store kultur- og byutviklingsprosjekt er i støpeskjeen. Kommunedirektøren har lansert visjonen Akropolis for utbyggingsområdet der Rogaland teater, Stavanger museum og fylkesadministrasjonen ligger i dag. Andre sverger til Echoffhøyden. Men hva ser man egentlig for seg i dette området – og er navnet så viktig? Tore Renberg og Sissel Knutsen Hegdal er med oss i dagens sending.
X-ALT-DESC:Stavangers neste store kultur- og byutviklingsprosjekt er i st&#248;peskjeen. Kommunedirekt&#248;ren har lansert visjonen Akropolis for utbyggingsomr&#229;det der Rogaland teater, Stavanger museum og fylkesadministrasjonen ligger i dag. Andre sverger til Echoffh&#248;yden. Men hva ser man egentlig for seg i dette omr&#229;det – og er navnet s&#229; viktig? Tore Renberg og Sissel Knutsen Hegdal er med oss i dagens sending.
LOCATION:Facebook Live
END:VEVENT


END:VCALENDAR



