
BEGIN:VCALENDAR
VERSION:2.0
PRODID:-//MarkedsPartner AS//Umbraco CMS//NO
TIMEZONE-ID:Europe/Oslo
X-WR-TIMEZONE:Europe/Oslo


BEGIN:VEVENT
UID:c9373c8b0e04441693f2b32441fa4d74
URL:https://umbraco.naeringsforeningen.no/moeter/arkiv/tv-sending-210222/
ORGANIZER;CN=Ola Normann:MAILTO:ola.normann@markedspartner.no
DTSTAMP:20210222T080000Z
DTSTART:20210222T080000Z
DTEND:20210222T082000Z
LAST-MODIFIED:20221031T120603Z
SUMMARY:Slik blir Berentsens whisky-satsing
DESCRIPTION:I 125 år har familiebedriften Berentsens Brygghus laget drikkevarer fra Egersund. Det startet med kaffe og leskedrikk, i dag produseres det også langt sterkere saker. Daglig leder Harald Berentsen er gjest i dagens sending.
X-ALT-DESC:I 125 &#229;r har familiebedriften Berentsens Brygghus laget drikkevarer fra Egersund. Det startet med kaffe og leskedrikk, i dag produseres det ogs&#229; langt sterkere saker. Daglig leder Harald Berentsen er gjest i dagens sending.
LOCATION:Facebook Live
END:VEVENT


END:VCALENDAR



