
BEGIN:VCALENDAR
VERSION:2.0
PRODID:-//MarkedsPartner AS//Umbraco CMS//NO
TIMEZONE-ID:Europe/Oslo
X-WR-TIMEZONE:Europe/Oslo


BEGIN:VEVENT
UID:9df2843d7d6d439cbb37ff556b144ac9
URL:https://umbraco.naeringsforeningen.no/moeter/arkiv/tv-sending-210219/
ORGANIZER;CN=Ola Normann:MAILTO:ola.normann@markedspartner.no
DTSTAMP:20210219T080000Z
DTSTART:20210219T080000Z
DTEND:20210219T082000Z
LAST-MODIFIED:20221031T120547Z
SUMMARY:Vassøy-oppfinnelse får det til å gro i ørkenen
DESCRIPTION:Desert Control skal bruke oljeteknologi og stavangersk geologikunnskap til å omdanne ørkensand i Afrika til dyrkbar jord. Stadig dukker det opp eksempler på hvordan denne bransjen utvikler nye produkter og satser på nye markeder. Det er fredag, og det betyr nye muligheter med Harald Minge og Tormod Andreassen. Med seg i studio har de Ole Kristian Sivertsen fra Desert Control.
X-ALT-DESC:Desert Control skal bruke oljeteknologi og stavangersk geologikunnskap til &#229; omdanne &#248;rkensand i Afrika til dyrkbar jord. Stadig dukker det opp eksempler p&#229; hvordan denne bransjen utvikler nye produkter og satser p&#229; nye markeder. Det er fredag, og det betyr nye muligheter med Harald Minge og Tormod Andreassen. Med seg i studio har de Ole Kristian Sivertsen fra Desert Control.
LOCATION:Facebook Live
END:VEVENT


END:VCALENDAR



