
BEGIN:VCALENDAR
VERSION:2.0
PRODID:-//MarkedsPartner AS//Umbraco CMS//NO
TIMEZONE-ID:Europe/Oslo
X-WR-TIMEZONE:Europe/Oslo


BEGIN:VEVENT
UID:b005335500314c12bc3f3a3d2215f8dc
URL:https://umbraco.naeringsforeningen.no/moeter/arkiv/tv-sending-210218/
ORGANIZER;CN=Ola Normann:MAILTO:ola.normann@markedspartner.no
DTSTAMP:20210218T080000Z
DTSTART:20210218T080000Z
DTEND:20210218T082000Z
LAST-MODIFIED:20221031T120541Z
SUMMARY:«Få rauå i gir» på E39
DESCRIPTION:«Få rauå i gir», sa Bjørn Risa til Aftenbladet, og siktet til alle de regionale infrastrukturprosjektene som av ulike grunner har stoppet opp. Både Fremskrittspartiet og Arbeiderpartiet har levert egne forslag for at Stortinget skal instruere samferdselsministeren til å sette i gang E39 prosjektet Hove-Osli. Dette vil hjelpe noe, men er det nok? Med oss i sendingen har vi Bjørn Risa fra Risa AS, Julie Brodtkorb fra Maskinentreprenørenes forening og stortingsrepresentantene Øystein Langholm Hansen (Ap) og Roy Steffensen (Frp).
X-ALT-DESC:&#171;F&#229; rau&#229; i gir&#187;, sa Bj&#248;rn Risa til Aftenbladet, og siktet til alle de regionale infrastrukturprosjektene som av ulike grunner har stoppet opp. B&#229;de Fremskrittspartiet og Arbeiderpartiet har levert egne forslag for at Stortinget skal instruere samferdselsministeren til &#229; sette i gang E39 prosjektet Hove-Osli. Dette vil hjelpe noe, men er det nok? Med oss i sendingen har vi Bj&#248;rn Risa fra Risa AS, Julie Brodtkorb fra Maskinentrepren&#248;renes forening og stortingsrepresentantene &#216;ystein Langholm Hansen (Ap) og Roy Steffensen (Frp).
LOCATION:Facebook Live
END:VEVENT


END:VCALENDAR



