
BEGIN:VCALENDAR
VERSION:2.0
PRODID:-//MarkedsPartner AS//Umbraco CMS//NO
TIMEZONE-ID:Europe/Oslo
X-WR-TIMEZONE:Europe/Oslo


BEGIN:VEVENT
UID:4358599153864020b5c564d7201c275e
URL:https://umbraco.naeringsforeningen.no/moeter/arkiv/tv-sending-210217/
ORGANIZER;CN=Ola Normann:MAILTO:ola.normann@markedspartner.no
DTSTAMP:20210217T080000Z
DTSTART:20210217T080000Z
DTEND:20210217T082000Z
LAST-MODIFIED:20221031T120529Z
SUMMARY:Hjemmekontor og Clubhouse
DESCRIPTION:Hvor effektivt og sunt er hjemmekontor egentlig? Og hva er egentlig Clubhouse – den nye farsotten når det gjelder sosiale medier? Psykolog Egon Hagen og markedsfører Hallgeir Gustavsen fra Vecora er våre gjester i dagens sending.
X-ALT-DESC:Hvor effektivt og sunt er hjemmekontor egentlig? Og hva er egentlig Clubhouse – den nye farsotten n&#229;r det gjelder sosiale medier? Psykolog Egon Hagen og markedsf&#248;rer Hallgeir Gustavsen fra Vecora er v&#229;re gjester i dagens sending.
LOCATION:Facebook Live
END:VEVENT


END:VCALENDAR



