
BEGIN:VCALENDAR
VERSION:2.0
PRODID:-//MarkedsPartner AS//Umbraco CMS//NO
TIMEZONE-ID:Europe/Oslo
X-WR-TIMEZONE:Europe/Oslo


BEGIN:VEVENT
UID:7503541a4d734fba9b5caa3cfdcb9fc5
URL:https://umbraco.naeringsforeningen.no/moeter/arkiv/tv-sending-210216/
ORGANIZER;CN=Ola Normann:MAILTO:ola.normann@markedspartner.no
DTSTAMP:20210216T080000Z
DTSTART:20210216T080000Z
DTEND:20210216T082000Z
LAST-MODIFIED:20221031T120526Z
SUMMARY:Forfatteren, journalisten og artisten
DESCRIPTION:I fjor debuterte han som romanforfatter, bok nummer to fra Vikingtiden kom i år. Arnt Olav Klippenberg har brukt koronatiden godt, selv om artistlivet foreløpig er satt på pause. Innimellom får han også tid til å jobbe i Aftenbladet, og nyte livet på Eigerøy. Forfatteren, journalisten og artisten Arnt Olav Klippenberg er vår gjest.
X-ALT-DESC:I fjor debuterte han som romanforfatter, bok nummer to fra Vikingtiden kom i &#229;r. Arnt Olav Klippenberg har brukt koronatiden godt, selv om artistlivet forel&#248;pig er satt p&#229; pause. Innimellom f&#229;r han ogs&#229; tid til &#229; jobbe i Aftenbladet, og nyte livet p&#229; Eiger&#248;y. Forfatteren, journalisten og artisten Arnt Olav Klippenberg er v&#229;r gjest.
LOCATION:Facebook Live
END:VEVENT


END:VCALENDAR



