
BEGIN:VCALENDAR
VERSION:2.0
PRODID:-//MarkedsPartner AS//Umbraco CMS//NO
TIMEZONE-ID:Europe/Oslo
X-WR-TIMEZONE:Europe/Oslo


BEGIN:VEVENT
UID:61e652d828184c37a0b96da775a11fa6
URL:https://umbraco.naeringsforeningen.no/moeter/arkiv/tv-sending-210212-1/
ORGANIZER;CN=Ola Normann:MAILTO:ola.normann@markedspartner.no
DTSTAMP:20210215T080000Z
DTSTART:20210215T080000Z
DTEND:20210215T082000Z
LAST-MODIFIED:20221031T120523Z
SUMMARY:Busser tilbake på Domkirkeplassen
DESCRIPTION:Kommunalutvalget i Stavanger vil ha midlertidig busstrasé over Domkirkeplassen. Det er det mange som ikke liker, blant annet partiet Venstre. Dag Mossige fra Ap og Jan Erik Søndeland fra Venstre er våre gjester i dagens sending.
X-ALT-DESC:Kommunalutvalget i Stavanger vil ha midlertidig busstras&#233; over Domkirkeplassen. Det er det mange som ikke liker, blant annet partiet Venstre. Dag Mossige fra Ap og Jan Erik S&#248;ndeland fra Venstre er v&#229;re gjester i dagens sending.
LOCATION:Facebook Live
END:VEVENT


END:VCALENDAR



