
BEGIN:VCALENDAR
VERSION:2.0
PRODID:-//MarkedsPartner AS//Umbraco CMS//NO
TIMEZONE-ID:Europe/Oslo
X-WR-TIMEZONE:Europe/Oslo


BEGIN:VEVENT
UID:9c28251413a54439a98d45f9b46531a1
URL:https://umbraco.naeringsforeningen.no/moeter/arkiv/tv-sending-210210/
ORGANIZER;CN=Ola Normann:MAILTO:ola.normann@markedspartner.no
DTSTAMP:20210210T080000Z
DTSTART:20210210T080000Z
DTEND:20210210T082000Z
LAST-MODIFIED:20221031T120436Z
SUMMARY:Hvordan øke eksporten vår?
DESCRIPTION:Selv om vi er store på eksport innen olje og gass, har Rogaland en betydelig vei å gå for å øke eksportandelen av både varer og tjenester. Hva kan vi gjøre for å gå til det? Vi har med oss Per Helge Svensson, administrerende direktør i Tampnet og Ragnhild Kristin Espeland, seniorrådgiver i Innovasjon Norge.
X-ALT-DESC:Selv om vi er store p&#229; eksport innen olje og gass, har Rogaland en betydelig vei &#229; g&#229; for &#229; &#248;ke eksportandelen av b&#229;de varer og tjenester. Hva kan vi gj&#248;re for &#229; g&#229; til det? Vi har med oss Per Helge Svensson, administrerende direkt&#248;r i Tampnet og Ragnhild Kristin Espeland, seniorr&#229;dgiver i Innovasjon Norge.
LOCATION:Facebook Live
END:VEVENT


END:VCALENDAR



