
BEGIN:VCALENDAR
VERSION:2.0
PRODID:-//MarkedsPartner AS//Umbraco CMS//NO
TIMEZONE-ID:Europe/Oslo
X-WR-TIMEZONE:Europe/Oslo


BEGIN:VEVENT
UID:76826cc2da1840988e8e5d6564368c98
URL:https://umbraco.naeringsforeningen.no/moeter/arkiv/tv-sending-210210-1/
ORGANIZER;CN=Ola Normann:MAILTO:ola.normann@markedspartner.no
DTSTAMP:20210211T080000Z
DTSTART:20210211T080000Z
DTEND:20210211T082000Z
LAST-MODIFIED:20221031T120442Z
SUMMARY:Transportnæringen og koronakrisen
DESCRIPTION:Det siste året har vært en berg- og dalbanereise for transportnæringen. Hvor mange tar tog og taxi når et helt samfunn oppfordres til å holde seg hjemme, utelivet er sterkt redusert, skoler veksler mellom rødt og gult, og de fleste oppfordres til hjemmekontor? Vi får besøk av  Dag Brekkan, salgs- og markedsansvarlig i GoAhead Nordic, og administrerende direktør Svein Svimbil i Stavanger Taxi.
X-ALT-DESC:Det siste &#229;ret har v&#230;rt en berg- og dalbanereise for transportn&#230;ringen. Hvor mange tar tog og taxi n&#229;r et helt samfunn oppfordres til &#229; holde seg hjemme, utelivet er sterkt redusert, skoler veksler mellom r&#248;dt og gult, og de fleste oppfordres til hjemmekontor? Vi f&#229;r bes&#248;k av  Dag Brekkan, salgs- og markedsansvarlig i GoAhead Nordic, og administrerende direkt&#248;r Svein Svimbil i Stavanger Taxi.
LOCATION:Facebook Live
END:VEVENT


END:VCALENDAR



